BEGIN:VCALENDAR
VERSION:2.0
PRODID:-//Indigenous Climate Hub - ECPv6.15.20//NONSGML v1.0//EN
CALSCALE:GREGORIAN
METHOD:PUBLISH
X-ORIGINAL-URL:https://indigenousclimatehub.ca
X-WR-CALDESC:Events for Indigenous Climate Hub
REFRESH-INTERVAL;VALUE=DURATION:PT1H
X-Robots-Tag:noindex
X-PUBLISHED-TTL:PT1H
BEGIN:VTIMEZONE
TZID:America/Edmonton
BEGIN:DAYLIGHT
TZOFFSETFROM:-0700
TZOFFSETTO:-0600
TZNAME:MDT
DTSTART:20190310T090000
END:DAYLIGHT
BEGIN:STANDARD
TZOFFSETFROM:-0600
TZOFFSETTO:-0700
TZNAME:MST
DTSTART:20191103T080000
END:STANDARD
BEGIN:DAYLIGHT
TZOFFSETFROM:-0700
TZOFFSETTO:-0600
TZNAME:MDT
DTSTART:20200308T090000
END:DAYLIGHT
BEGIN:STANDARD
TZOFFSETFROM:-0600
TZOFFSETTO:-0700
TZNAME:MST
DTSTART:20201101T080000
END:STANDARD
BEGIN:DAYLIGHT
TZOFFSETFROM:-0700
TZOFFSETTO:-0600
TZNAME:MDT
DTSTART:20210314T090000
END:DAYLIGHT
BEGIN:STANDARD
TZOFFSETFROM:-0600
TZOFFSETTO:-0700
TZNAME:MST
DTSTART:20211107T080000
END:STANDARD
END:VTIMEZONE
BEGIN:VEVENT
DTSTART;TZID=America/Edmonton:20200825T140000
DTEND;TZID=America/Edmonton:20200825T170000
DTSTAMP:20260424T104633
CREATED:20200807T204424Z
LAST-MODIFIED:20200807T205216Z
UID:4878-1598364000-1598374800@indigenousclimatehub.ca
SUMMARY:Caribou Ecology & Recovery Webinar Series: Let it grow? Moose response to habitat disturbance in caribou ranges
DESCRIPTION:Presenter: Laura Finnegan \nThis webinar series will provide up-to-date information about research to support caribou recovery in Canada. A variety of topics will be explored from understanding the mechanisms of caribou declines to testing recovery options. While this series is currently dominated by presentations from Western Canada\, presentations will continue to be added to include a national and international scope. The series will run approximately every second Tuesday. \nFor more information on this webinar series\, visit the Caribou Monitoring Unit (CMU) website.
URL:https://indigenousclimatehub.ca/event/caribou-ecology-recovery-webinar-series-let-it-grow-moose-response-to-habitat-disturbance-in-caribou-ranges/
CATEGORIES:Webinar
ATTACH;FMTTYPE=image/jpeg:https://indigenousclimatehub.ca/wp-content/uploads/2020/07/Webinar-Info-Image-wpcf_1280x600-e1594311924739.jpg
END:VEVENT
END:VCALENDAR