BEGIN:VCALENDAR
VERSION:2.0
PRODID:-//Indigenous Climate Hub - ECPv6.15.20//NONSGML v1.0//EN
CALSCALE:GREGORIAN
METHOD:PUBLISH
X-WR-CALNAME:Indigenous Climate Hub
X-ORIGINAL-URL:https://indigenousclimatehub.ca
X-WR-CALDESC:Events for Indigenous Climate Hub
REFRESH-INTERVAL;VALUE=DURATION:PT1H
X-Robots-Tag:noindex
X-PUBLISHED-TTL:PT1H
BEGIN:VTIMEZONE
TZID:America/Toronto
BEGIN:DAYLIGHT
TZOFFSETFROM:-0500
TZOFFSETTO:-0400
TZNAME:EDT
DTSTART:20210314T070000
END:DAYLIGHT
BEGIN:STANDARD
TZOFFSETFROM:-0400
TZOFFSETTO:-0500
TZNAME:EST
DTSTART:20211107T060000
END:STANDARD
BEGIN:DAYLIGHT
TZOFFSETFROM:-0500
TZOFFSETTO:-0400
TZNAME:EDT
DTSTART:20220313T070000
END:DAYLIGHT
BEGIN:STANDARD
TZOFFSETFROM:-0400
TZOFFSETTO:-0500
TZNAME:EST
DTSTART:20221106T060000
END:STANDARD
BEGIN:DAYLIGHT
TZOFFSETFROM:-0500
TZOFFSETTO:-0400
TZNAME:EDT
DTSTART:20230312T070000
END:DAYLIGHT
BEGIN:STANDARD
TZOFFSETFROM:-0400
TZOFFSETTO:-0500
TZNAME:EST
DTSTART:20231105T060000
END:STANDARD
END:VTIMEZONE
BEGIN:VEVENT
DTSTART;TZID=America/Toronto:20220217T130000
DTEND;TZID=America/Toronto:20220217T150000
DTSTAMP:20260420T063509
CREATED:20220215T215226Z
LAST-MODIFIED:20220215T215226Z
UID:5579-1645102800-1645110000@indigenousclimatehub.ca
SUMMARY:National Aboriginal Lands Managers Association (NALMA) Presents: Climate Change and Indigenous Communities in Canada with Clayton Coppaway
DESCRIPTION:The National Aboriginal Lands Managers Association (NALMA) will be hosting an interactive presentation on Climate Change and its potential implications for Indigenous Communities in Canada. This virtual event will take place on Thursday\, February 17\, 2022 from 1:00 – 3:00pm EST. \nIf you have any questions or issues concerning the event\, please contact setheridge@nalma.ca. \nBelow is the Zoom info for the virtual event: \nNALMA is inviting you to a scheduled Zoom meeting. \nTopic: Climate Change and Indigenous Communities in Canada\nWith Clayton Coppaway \nTime: Feb 17\, 2022 1:00 PM Eastern Time (US and Canada) \nJoin Zoom Meeting\nhttps://us06web.zoom.us/j/88249961292 \nMeeting ID: 882 4996 1292\nOne tap mobile\n+12042727920\,\,88249961292# Canada\n+14388097799\,\,88249961292# Canada \nDial by your location\n+1 204 272 7920 Canada\n+1 438 809 7799 Canada\n+1 587 328 1099 Canada\n+1 647 374 4685 Canada\n+1 647 558 0588 Canada\n+1 778 907 2071 Canada\nMeeting ID: 882 4996 1292\nFind your local number: https://us06web.zoom.us/u/kziLZd0Ue \n  \n(Information source: National Aboriginal Lands Managers Association)
URL:https://indigenousclimatehub.ca/event/national-aboriginal-lands-managers-association-nalma-presents-climate-change-and-indigenous-communities-in-canada-with-clayton-coppaway/
CATEGORIES:Virtual Webinar
ATTACH;FMTTYPE=image/jpeg:https://indigenousclimatehub.ca/wp-content/uploads/2022/02/Climate-Change-Invitation.jpg
ORGANIZER;CN="National Aboriginal Lands Managers Association (NALMA)":MAILTO:setheridge@nalma.ca
END:VEVENT
END:VCALENDAR