BEGIN:VCALENDAR
VERSION:2.0
PRODID:-//Indigenous Climate Hub - ECPv6.15.20//NONSGML v1.0//EN
CALSCALE:GREGORIAN
METHOD:PUBLISH
X-ORIGINAL-URL:https://indigenousclimatehub.ca
X-WR-CALDESC:Events for Indigenous Climate Hub
REFRESH-INTERVAL;VALUE=DURATION:PT1H
X-Robots-Tag:noindex
X-PUBLISHED-TTL:PT1H
BEGIN:VTIMEZONE
TZID:America/Toronto
BEGIN:DAYLIGHT
TZOFFSETFROM:-0500
TZOFFSETTO:-0400
TZNAME:EDT
DTSTART:20200308T070000
END:DAYLIGHT
BEGIN:STANDARD
TZOFFSETFROM:-0400
TZOFFSETTO:-0500
TZNAME:EST
DTSTART:20201101T060000
END:STANDARD
BEGIN:DAYLIGHT
TZOFFSETFROM:-0500
TZOFFSETTO:-0400
TZNAME:EDT
DTSTART:20210314T070000
END:DAYLIGHT
BEGIN:STANDARD
TZOFFSETFROM:-0400
TZOFFSETTO:-0500
TZNAME:EST
DTSTART:20211107T060000
END:STANDARD
BEGIN:DAYLIGHT
TZOFFSETFROM:-0500
TZOFFSETTO:-0400
TZNAME:EDT
DTSTART:20220313T070000
END:DAYLIGHT
BEGIN:STANDARD
TZOFFSETFROM:-0400
TZOFFSETTO:-0500
TZNAME:EST
DTSTART:20221106T060000
END:STANDARD
END:VTIMEZONE
BEGIN:VEVENT
DTSTART;VALUE=DATE:20210531
DTEND;VALUE=DATE:20210605
DTSTAMP:20260423T180611
CREATED:20210519T143732Z
LAST-MODIFIED:20210519T144025Z
UID:5335-1622419200-1622851199@indigenousclimatehub.ca
SUMMARY:74th CWRA National Conference (May 31 - June 4\, 2021)
DESCRIPTION:The First Nations of Quebec and Labrador Sustainable Development Institute (FNQLSDI)\, in collaboration with the Canadian Water Resources Association (CWRA) and Crown-Indigenous Relations and Northern Affairs Canada (CIRNAC)\, invites Indigenous Peoples in Canada to participate free of charge in the 74th CWRA National Conference  which will take place online from May 31st to June 4th\, 2021. \nThe theme of the conference is: Management of risks and opportunities related to water: sharing of knowledge and expertise. \nThe presentation will cover a variety of topics\, including integrated water management and governance\, snow and ice in a risk management context\, hydrological and water quality modeling in a climate change context\, etc. \nIn addition\, we are organizing an indigenous plenary session where we will highlight Indigenous Knowledge\, leadership and projects related to water management. More details on the conference are available here. \n  \nTo register\, we invite you to complete the following form.\n  \nThe FNQLSDI will forward your registration to the CWRA and will pay your registration fees. Please note that the available funding is for a maximum capacity of 50 people\, and will be granted on a first come\, first served basis. \nOnce your registration is submitted to the CWRA\, you will receive a link to the conference platform closer to the event date. \nIf you have any questions about funding or the registration form\, please contact Andréanne Ferland (aferland@iddpnql.ca) or Sabryna Godbout (sgodbout@iddpnql.ca). \n  \n(Event information summary shared from CIRNAC) \n(Event Poster Image from CWRF event website).
URL:https://indigenousclimatehub.ca/event/74th-cwra-national-conference-may-31-june-4-2021/
CATEGORIES:Virtual Event
ATTACH;FMTTYPE=image/png:https://indigenousclimatehub.ca/wp-content/uploads/2021/05/Screen-Shot-2021-05-19-at-10.33.50-AM.png
END:VEVENT
END:VCALENDAR