BEGIN:VCALENDAR
VERSION:2.0
PRODID:-//Indigenous Climate Hub - ECPv6.15.20//NONSGML v1.0//EN
CALSCALE:GREGORIAN
METHOD:PUBLISH
X-WR-CALNAME:Indigenous Climate Hub
X-ORIGINAL-URL:https://indigenousclimatehub.ca
X-WR-CALDESC:Events for Indigenous Climate Hub
REFRESH-INTERVAL;VALUE=DURATION:PT1H
X-Robots-Tag:noindex
X-PUBLISHED-TTL:PT1H
BEGIN:VTIMEZONE
TZID:America/Toronto
BEGIN:DAYLIGHT
TZOFFSETFROM:-0500
TZOFFSETTO:-0400
TZNAME:EDT
DTSTART:20190310T070000
END:DAYLIGHT
BEGIN:STANDARD
TZOFFSETFROM:-0400
TZOFFSETTO:-0500
TZNAME:EST
DTSTART:20191103T060000
END:STANDARD
BEGIN:DAYLIGHT
TZOFFSETFROM:-0500
TZOFFSETTO:-0400
TZNAME:EDT
DTSTART:20200308T070000
END:DAYLIGHT
BEGIN:STANDARD
TZOFFSETFROM:-0400
TZOFFSETTO:-0500
TZNAME:EST
DTSTART:20201101T060000
END:STANDARD
BEGIN:DAYLIGHT
TZOFFSETFROM:-0500
TZOFFSETTO:-0400
TZNAME:EDT
DTSTART:20210314T070000
END:DAYLIGHT
BEGIN:STANDARD
TZOFFSETFROM:-0400
TZOFFSETTO:-0500
TZNAME:EST
DTSTART:20211107T060000
END:STANDARD
END:VTIMEZONE
BEGIN:VEVENT
DTSTART;TZID=America/Toronto:20200721T130000
DTEND;TZID=America/Toronto:20200721T140000
DTSTAMP:20260420T093525
CREATED:20200714T144158Z
LAST-MODIFIED:20200714T144737Z
UID:4842-1595336400-1595340000@indigenousclimatehub.ca
SUMMARY:Webinar: Supporting Long-term Climate Resilience in Canada Through Planned Retreat
DESCRIPTION:Presenter: Dr. Brent Doberstein\, University of Waterloo \nSupport: Michael Barnard and Dr. Patrick Saunders-Hastings\, Gevity Consulting Inc. \nAbstract: Dr. Doberstein will be presenting findings from an environmental scan and current state analysis of planned retreat in Canada and relevant international contexts\, prepared for Natural Resources Canada. The team conducted a comprehensive review of planned retreat in the broader context of climate change adaptation processes\, teasing out key themes related to triggers\, sources of resistance\, barriers and enablers of retreat. Analyses informed the development of a set of good practices. Drawing on three case studies of planned retreat discussions and programs from Surrey\, BC; Lake Erie\, ON; and Gatineau\, QC\, Dr. Doberstein will discuss key lessons learned and good practices for future consideration and application. \nClick here to view Poster.
URL:https://indigenousclimatehub.ca/event/webinar-supporting-long-term-climate-resilience-in-canada-through-planned-retreat/
CATEGORIES:Webinar
ATTACH;FMTTYPE=image/png:https://indigenousclimatehub.ca/wp-content/uploads/2020/07/Screen-Shot-2020-07-14-at-10.44.08-AM.png
END:VEVENT
END:VCALENDAR