BEGIN:VCALENDAR
VERSION:2.0
PRODID:-//Indigenous Climate Hub - ECPv6.15.20//NONSGML v1.0//EN
CALSCALE:GREGORIAN
METHOD:PUBLISH
X-WR-CALNAME:Indigenous Climate Hub
X-ORIGINAL-URL:https://indigenousclimatehub.ca
X-WR-CALDESC:Events for Indigenous Climate Hub
REFRESH-INTERVAL;VALUE=DURATION:PT1H
X-Robots-Tag:noindex
X-PUBLISHED-TTL:PT1H
BEGIN:VTIMEZONE
TZID:UTC
BEGIN:STANDARD
TZOFFSETFROM:+0000
TZOFFSETTO:+0000
TZNAME:UTC
DTSTART:20210101T000000
END:STANDARD
END:VTIMEZONE
BEGIN:VEVENT
DTSTART;TZID=UTC:20220804T000000
DTEND;TZID=UTC:20220908T235959
DTSTAMP:20260423T203749
CREATED:20220802T192516Z
LAST-MODIFIED:20220802T192516Z
UID:5760-1659571200-1662681599@indigenousclimatehub.ca
SUMMARY:Natural Infrastructure Fund: Webinars for Applicants (Various in August & September 2022)
DESCRIPTION:La version française suit. \n  \nNatural Infrastructure Fund: Webinars Starting in August! \nInfrastructure Canada’s Natural Infrastructure Fund (NIF) Small Projects Stream is accepting applications until September 27\, 2022 at 3:00 pm (EDT). \nThe NIF is the first federal program of its kind. Its objectives are to build community awareness of the value and opportunities of natural and hybrid infrastructure\, and to increase its uptake and use across Canada. \nJoin NIF’s webinars for applicants\, which will provide information on developing and submitting applications to the Small Projects Stream under the Natural Infrastructure Fund. There will also be an opportunity to ask questions. \nIf you are interested in attending one of the webinars\, please visit the webpage to register. You can also consult the applicant guide for more information. Registration is limited\, please reserve your spot soon. \nWebinars for applicants\nJoin our webinars for applicants\, which will provide information on the process of developing and submitting an application to the Small Projects Stream under the Natural Infrastructure Fund. During these webinar sessions\, attendees will be provided with details on applicant and project eligibility\, the application process\, and the evaluation process. There will also be an opportunity to ask questions. Webinars are scheduled for the following dates: \nEnglish sessions: \n\nThursday\, August 4: 1:00 – 2:00 pm (EDT) (FULL)\nThursday\, August 11: 1:00 – 2:00 pm (EDT) (FULL)\nThursday\, August 18: 1:00 – 2:00 pm (EDT) Register Here\nThursday\, August 25: 1:00 – 2:00 pm (EDT) Register Here\nThursday\, September 1: 1:00 – 2:00 pm (EDT) Register Here\nThursday\, September 8: 1:00 – 2:00 pm (EDT) Register Here\n\nFrench sessions: \n\nTuesday\, August 9: 1:00 – 2:00 pm (EDT) Register Here\nTuesday\, August 23: 1:00 – 2:00 pm (EDT) Register Here\n\nIf you are interested in registering for one of the webinars\, please follow the links above to register. Registration is limited\, please reserve your spot soon. \n  \nEvent information from: \nNatural Infrastructure Fund  \nInfrastructure Canada / Government of Canada \nnif-fin@infc.gc.ca \n  \nFonds pour les infrastructures naturelles \nInfrastructure Canada / Gouvernement du Canada \nnif-fin@infc.gc.ca \n  \n  \nEnglish version above. \n  \nLe Fonds pour les infrastructures naturelles: Webinaires à venir bientôt! \nLe volet des projets de petite envergure du Fonds pour les infrastructures naturelles (FIN) d’Infrastructure Canada accepte les demandes jusqu’au 27 septembre 2022 à 15 h 00 (HAE). \nLe FIN est le premier programme fédéral axé sur les infrastructures naturelles. Il a comme objectifs de sensibiliser les collectivités à la valeur et aux possibilités qu’offrent les infrastructures naturelles et hybrides et d’accroître l’adoption et l’utilisation de ces infrastructures partout au Canada. \nParticipez à nos webinaires pour les demandeurs. Ceux-ci fourniront des renseignements sur le processus d’élaboration et de soumission d’une demande au volet des projets de petite envergure du Fonds pour les infrastructures naturelles. Il sera également possible de poser des questions. \nSi vous souhaitez participer à l’un des webinaires\, veuillez visiter la page Web pour vous inscrire.  Vous pouvez également consulter le guide du demandeur  pour obtenir de plus amples renseignements. Il y a un nombre limité de participants par séance. Veuillez réserver votre place dès que possible. \nMerci beaucoup! \n  \nFonds pour les infrastructures naturelles \nInfrastructure Canada / Gouvernement du Canada \nnif-fin@infc.gc.ca \n  \nNatural Infrastructure Fund  \nInfrastructure Canada / Government of Canada \nnif-fin@infc.gc.ca
URL:https://indigenousclimatehub.ca/event/natural-infrastructure-fund-webinars-for-applicants-various-in-august-september-2022/
CATEGORIES:Webinar
END:VEVENT
END:VCALENDAR