BEGIN:VCALENDAR
VERSION:2.0
PRODID:-//Indigenous Climate Hub - ECPv6.15.20//NONSGML v1.0//EN
CALSCALE:GREGORIAN
METHOD:PUBLISH
X-WR-CALNAME:Indigenous Climate Hub
X-ORIGINAL-URL:https://indigenousclimatehub.ca
X-WR-CALDESC:Events for Indigenous Climate Hub
REFRESH-INTERVAL;VALUE=DURATION:PT1H
X-Robots-Tag:noindex
X-PUBLISHED-TTL:PT1H
BEGIN:VTIMEZONE
TZID:America/Edmonton
BEGIN:DAYLIGHT
TZOFFSETFROM:-0700
TZOFFSETTO:-0600
TZNAME:MDT
DTSTART:20200308T090000
END:DAYLIGHT
BEGIN:STANDARD
TZOFFSETFROM:-0600
TZOFFSETTO:-0700
TZNAME:MST
DTSTART:20201101T080000
END:STANDARD
BEGIN:DAYLIGHT
TZOFFSETFROM:-0700
TZOFFSETTO:-0600
TZNAME:MDT
DTSTART:20210314T090000
END:DAYLIGHT
BEGIN:STANDARD
TZOFFSETFROM:-0600
TZOFFSETTO:-0700
TZNAME:MST
DTSTART:20211107T080000
END:STANDARD
BEGIN:DAYLIGHT
TZOFFSETFROM:-0700
TZOFFSETTO:-0600
TZNAME:MDT
DTSTART:20220313T090000
END:DAYLIGHT
BEGIN:STANDARD
TZOFFSETFROM:-0600
TZOFFSETTO:-0700
TZNAME:MST
DTSTART:20221106T080000
END:STANDARD
END:VTIMEZONE
BEGIN:VEVENT
DTSTART;VALUE=DATE:20210622
DTEND;VALUE=DATE:20210624
DTSTAMP:20260426T042023
CREATED:20210510T205839Z
LAST-MODIFIED:20210510T205919Z
UID:5326-1624320000-1624492799@indigenousclimatehub.ca
SUMMARY:Canadian Mountain Network - Knowledge Sharing Summit (June 22-23\, 2021)
DESCRIPTION:The Canadian Mountain Network (CMN) is hosting the first Knowledge Sharing Summit virtually on June 22 & 23 from 9am-2:30pm MT. \nThe Knowledge Sharing Summit will bring together Indigenous organizations and communities\, university researchers\, and government\, business and not-for-profit partners to showcase CMN’s work\, and create opportunities for networking and collaboration. The event is open to the public! Students are also welcome! You’ll hear about CMN’s recent research and upcoming Knowledge Hubs\, network with diverse participants and learn about Canada’s mountain systems. \nGoals of the Summit: \n\nEngage the CMN community of research teams\, collaborators\, extended community and general public.\nMobilize knowledge created within the Network\, or with the support of CMN.\nInform and raise awareness about opportunities and challenges for mountain systems across Canada and internationally.\n\nMark the dates in your calendar and stay tuned!  \nRegistration opens in May. \nView the Provisional Agenda here \nSubscribe to Canadian Mountain Network newsletter to stay informed on all the details. \n  \nEvent Host: \nCanadian Mountain Network \n  \nFor more information\, or to register\, visit: \nhttps://canadianmountainnetwork.ca/cmn-annual-meeting/. \n  \n(NOTE: Event poster and event information from Canadian Mountain Network website). \n 
URL:https://indigenousclimatehub.ca/event/canadian-mountain-network-knowledge-sharing-summit-june-22-23-2021/
CATEGORIES:Webinar
ATTACH;FMTTYPE=image/png:https://indigenousclimatehub.ca/wp-content/uploads/2021/05/CMN-Summit-banner_date_center_CMN-summit_CMN-summit-2048x594-1.png
END:VEVENT
END:VCALENDAR