BEGIN:VCALENDAR
VERSION:2.0
PRODID:-//Indigenous Climate Hub - ECPv6.15.20//NONSGML v1.0//EN
CALSCALE:GREGORIAN
METHOD:PUBLISH
X-WR-CALNAME:Indigenous Climate Hub
X-ORIGINAL-URL:https://indigenousclimatehub.ca
X-WR-CALDESC:Events for Indigenous Climate Hub
REFRESH-INTERVAL;VALUE=DURATION:PT1H
X-Robots-Tag:noindex
X-PUBLISHED-TTL:PT1H
BEGIN:VTIMEZONE
TZID:America/Toronto
BEGIN:DAYLIGHT
TZOFFSETFROM:-0500
TZOFFSETTO:-0400
TZNAME:EDT
DTSTART:20200308T070000
END:DAYLIGHT
BEGIN:STANDARD
TZOFFSETFROM:-0400
TZOFFSETTO:-0500
TZNAME:EST
DTSTART:20201101T060000
END:STANDARD
BEGIN:DAYLIGHT
TZOFFSETFROM:-0500
TZOFFSETTO:-0400
TZNAME:EDT
DTSTART:20210314T070000
END:DAYLIGHT
BEGIN:STANDARD
TZOFFSETFROM:-0400
TZOFFSETTO:-0500
TZNAME:EST
DTSTART:20211107T060000
END:STANDARD
BEGIN:DAYLIGHT
TZOFFSETFROM:-0500
TZOFFSETTO:-0400
TZNAME:EDT
DTSTART:20220313T070000
END:DAYLIGHT
BEGIN:STANDARD
TZOFFSETFROM:-0400
TZOFFSETTO:-0500
TZNAME:EST
DTSTART:20221106T060000
END:STANDARD
BEGIN:DAYLIGHT
TZOFFSETFROM:-0500
TZOFFSETTO:-0400
TZNAME:EDT
DTSTART:20230312T070000
END:DAYLIGHT
BEGIN:STANDARD
TZOFFSETFROM:-0400
TZOFFSETTO:-0500
TZNAME:EST
DTSTART:20231105T060000
END:STANDARD
BEGIN:DAYLIGHT
TZOFFSETFROM:-0500
TZOFFSETTO:-0400
TZNAME:EDT
DTSTART:20240310T070000
END:DAYLIGHT
BEGIN:STANDARD
TZOFFSETFROM:-0400
TZOFFSETTO:-0500
TZNAME:EST
DTSTART:20241103T060000
END:STANDARD
BEGIN:DAYLIGHT
TZOFFSETFROM:-0500
TZOFFSETTO:-0400
TZNAME:EDT
DTSTART:20250309T070000
END:DAYLIGHT
BEGIN:STANDARD
TZOFFSETFROM:-0400
TZOFFSETTO:-0500
TZNAME:EST
DTSTART:20251102T060000
END:STANDARD
BEGIN:DAYLIGHT
TZOFFSETFROM:-0500
TZOFFSETTO:-0400
TZNAME:EDT
DTSTART:20260308T070000
END:DAYLIGHT
BEGIN:STANDARD
TZOFFSETFROM:-0400
TZOFFSETTO:-0500
TZNAME:EST
DTSTART:20261101T060000
END:STANDARD
BEGIN:DAYLIGHT
TZOFFSETFROM:-0500
TZOFFSETTO:-0400
TZNAME:EDT
DTSTART:20270314T070000
END:DAYLIGHT
BEGIN:STANDARD
TZOFFSETFROM:-0400
TZOFFSETTO:-0500
TZNAME:EST
DTSTART:20271107T060000
END:STANDARD
END:VTIMEZONE
BEGIN:VTIMEZONE
TZID:America/New_York
BEGIN:DAYLIGHT
TZOFFSETFROM:-0500
TZOFFSETTO:-0400
TZNAME:EDT
DTSTART:20240310T070000
END:DAYLIGHT
BEGIN:STANDARD
TZOFFSETFROM:-0400
TZOFFSETTO:-0500
TZNAME:EST
DTSTART:20241103T060000
END:STANDARD
BEGIN:DAYLIGHT
TZOFFSETFROM:-0500
TZOFFSETTO:-0400
TZNAME:EDT
DTSTART:20250309T070000
END:DAYLIGHT
BEGIN:STANDARD
TZOFFSETFROM:-0400
TZOFFSETTO:-0500
TZNAME:EST
DTSTART:20251102T060000
END:STANDARD
BEGIN:DAYLIGHT
TZOFFSETFROM:-0500
TZOFFSETTO:-0400
TZNAME:EDT
DTSTART:20260308T070000
END:DAYLIGHT
BEGIN:STANDARD
TZOFFSETFROM:-0400
TZOFFSETTO:-0500
TZNAME:EST
DTSTART:20261101T060000
END:STANDARD
END:VTIMEZONE
BEGIN:VTIMEZONE
TZID:UTC
BEGIN:STANDARD
TZOFFSETFROM:+0000
TZOFFSETTO:+0000
TZNAME:UTC
DTSTART:20210101T000000
END:STANDARD
END:VTIMEZONE
BEGIN:VTIMEZONE
TZID:America/Vancouver
BEGIN:DAYLIGHT
TZOFFSETFROM:-0800
TZOFFSETTO:-0700
TZNAME:PDT
DTSTART:20190310T100000
END:DAYLIGHT
BEGIN:STANDARD
TZOFFSETFROM:-0700
TZOFFSETTO:-0800
TZNAME:PST
DTSTART:20191103T090000
END:STANDARD
BEGIN:DAYLIGHT
TZOFFSETFROM:-0800
TZOFFSETTO:-0700
TZNAME:PDT
DTSTART:20200308T100000
END:DAYLIGHT
BEGIN:STANDARD
TZOFFSETFROM:-0700
TZOFFSETTO:-0800
TZNAME:PST
DTSTART:20201101T090000
END:STANDARD
BEGIN:DAYLIGHT
TZOFFSETFROM:-0800
TZOFFSETTO:-0700
TZNAME:PDT
DTSTART:20210314T100000
END:DAYLIGHT
BEGIN:STANDARD
TZOFFSETFROM:-0700
TZOFFSETTO:-0800
TZNAME:PST
DTSTART:20211107T090000
END:STANDARD
BEGIN:DAYLIGHT
TZOFFSETFROM:-0800
TZOFFSETTO:-0700
TZNAME:PDT
DTSTART:20220313T100000
END:DAYLIGHT
BEGIN:STANDARD
TZOFFSETFROM:-0700
TZOFFSETTO:-0800
TZNAME:PST
DTSTART:20221106T090000
END:STANDARD
BEGIN:DAYLIGHT
TZOFFSETFROM:-0800
TZOFFSETTO:-0700
TZNAME:PDT
DTSTART:20230312T100000
END:DAYLIGHT
BEGIN:STANDARD
TZOFFSETFROM:-0700
TZOFFSETTO:-0800
TZNAME:PST
DTSTART:20231105T090000
END:STANDARD
END:VTIMEZONE
BEGIN:VTIMEZONE
TZID:America/Edmonton
BEGIN:DAYLIGHT
TZOFFSETFROM:-0700
TZOFFSETTO:-0600
TZNAME:MDT
DTSTART:20210314T090000
END:DAYLIGHT
BEGIN:STANDARD
TZOFFSETFROM:-0600
TZOFFSETTO:-0700
TZNAME:MST
DTSTART:20211107T080000
END:STANDARD
BEGIN:DAYLIGHT
TZOFFSETFROM:-0700
TZOFFSETTO:-0600
TZNAME:MDT
DTSTART:20220313T090000
END:DAYLIGHT
BEGIN:STANDARD
TZOFFSETFROM:-0600
TZOFFSETTO:-0700
TZNAME:MST
DTSTART:20221106T080000
END:STANDARD
BEGIN:DAYLIGHT
TZOFFSETFROM:-0700
TZOFFSETTO:-0600
TZNAME:MDT
DTSTART:20230312T090000
END:DAYLIGHT
BEGIN:STANDARD
TZOFFSETFROM:-0600
TZOFFSETTO:-0700
TZNAME:MST
DTSTART:20231105T080000
END:STANDARD
END:VTIMEZONE
BEGIN:VTIMEZONE
TZID:America/Moncton
BEGIN:DAYLIGHT
TZOFFSETFROM:-0400
TZOFFSETTO:-0300
TZNAME:ADT
DTSTART:20190310T060000
END:DAYLIGHT
BEGIN:STANDARD
TZOFFSETFROM:-0300
TZOFFSETTO:-0400
TZNAME:AST
DTSTART:20191103T050000
END:STANDARD
BEGIN:DAYLIGHT
TZOFFSETFROM:-0400
TZOFFSETTO:-0300
TZNAME:ADT
DTSTART:20200308T060000
END:DAYLIGHT
BEGIN:STANDARD
TZOFFSETFROM:-0300
TZOFFSETTO:-0400
TZNAME:AST
DTSTART:20201101T050000
END:STANDARD
BEGIN:DAYLIGHT
TZOFFSETFROM:-0400
TZOFFSETTO:-0300
TZNAME:ADT
DTSTART:20210314T060000
END:DAYLIGHT
BEGIN:STANDARD
TZOFFSETFROM:-0300
TZOFFSETTO:-0400
TZNAME:AST
DTSTART:20211107T050000
END:STANDARD
END:VTIMEZONE
BEGIN:VEVENT
DTSTART;TZID=America/Toronto:20260206T104500
DTEND;TZID=America/Toronto:20260206T114500
DTSTAMP:20260419T133551
CREATED:20260120T130643Z
LAST-MODIFIED:20260120T182440Z
UID:6900-1770374700-1770378300@indigenousclimatehub.ca
SUMMARY:Mitigating the impacts of climate change: Cultivating learning pathways for Indigenous self-sustainability
DESCRIPTION:Mitigating the Impacts of Climate Change is a series separate workshops featuring speakers who share their insights on Indigenous environmental leadership\, community action\, and land-based learning.  \nIn the face of global climate change\, Mohawk educator and pedagogical consultant Kanerahtiio Hemlock asks\, “How do small communities respond and adapt?” Acknowledging that there is no one right answer\, Kanerahtiio explains that for traditional Native people\, the path is clear: “We have to return to our own ways.” In this workshop\, Kanerahtiio speaks to what he has learned while developing a class on Indigenous self-sustainability\, and how exploring the ways his people taught their children in the past—and what that teaching might look like today—has guided this educational work. \nSpeaker \nKanerahtiio Hemlock\, a Mohawk from Kahnawake\, has taught native history for the past thirteen years at the First Nations Regional Adult Education Center. During that time\, he had developed a course on Indigenous self-sustainability that won the 2018 Ken Spencer national award for innovation in teaching. Since 2023 he has also worked part time at Dawson College as the Indigenous Pedagogical Consultant. \nThis event has been generously funded by the Chamandy Foundation. \nLight refreshments will be provided. \nAudience: Concordia community and external \n\nDate: Friday\, February 6\, 2026 at 10:30 AM – 11:45 AM EST\nLocation: In person at SHIFT Centre for Social Transformation (1400 Blvd. De Maisonneuve Ouest LB 145\, Tiohtià:ke / Mooniyang / Montreal) or online via Zoom — open to all!\nDetails and registration here: Register
URL:https://indigenousclimatehub.ca/event/cultivating-learning-pathways-for-indigenous-self-sustainability/
LOCATION:Concordia University\, Pavillon J.‐W.‐McConnell 1400 De Maisonneuve Blvd. W.\, Montreal\, QC\, H3G 1M8\, Canada
CATEGORIES:Conference,Event,Virtual Event
ATTACH;FMTTYPE=image/png:https://indigenousclimatehub.ca/wp-content/uploads/2026/01/Concordia-University-300x225-1.png
ORGANIZER;CN="Office of Decolonizing and Indigenizing Curriculum and Pedagogy":MAILTO:teaching@concordia.ca
END:VEVENT
BEGIN:VEVENT
DTSTART;TZID=America/Toronto:20260130T110000
DTEND;TZID=America/Toronto:20260130T121500
DTSTAMP:20260419T133551
CREATED:20260120T125143Z
LAST-MODIFIED:20260120T182650Z
UID:6886-1769770800-1769775300@indigenousclimatehub.ca
SUMMARY:A workshop with Waba Moko on moose protection & Anishnabe governance
DESCRIPTION:Mitigating the Impacts of Climate Change is a series separate workshops featuring speakers who share their insights on Indigenous environmental leadership\, community action\, and land-based learning.\n\n\n\n\n\n\n\nJoin us as Anishnabe Knowledge Keeper Shannon Chief/Waba Mako discusses various contributions to the decolonization and restoration of her people’s sovereignty\, including the defense and protection of land\, waters\, and language and the community-driven Anishnabe Moose Studies project. \nSpeaker \nShannon Chief/Waba Mako is Wolf Clan from the Anishnabe-Algonquin Nation. She contributes at various levels to the decolonization and the restoration of her people’s sovereignty. The defense and protection of land\, waters and language is a priority for the Anishnabeg. Waba is a Knowledge Keeper who prioritizes knowledge & language sharing to Anishnabe communities. Waba is the former AMC coordinator for the Anishnabe Moose Studies which has always been community-driven project from 2022 to 2025. Today\, Waba is the Interium Managing Director for Tinakiwin\, a newly non profit organization established to continue on the advocacy work within the Algonquin Territory. \nThis event has been generously funded by the Chamandy Foundation. \nLight refreshments will be provided. \nAudience: Concordia community and external \n\n\n\n\nDate: Friday\, January 30\, 2026 at 11 AM – 12:15 PM EST\nLocation: In person at SHIFT Centre for Social Transformation (1400 Blvd. De Maisonneuve Ouest LB 145\, Tiohtià:ke / Mooniyang / Montreal) or online via Zoom — open to all!
URL:https://indigenousclimatehub.ca/event/a-workshop-with-waba-moko-on-moose-protection-anishnabe-governance/
LOCATION:Concordia University\, Pavillon J.‐W.‐McConnell 1400 De Maisonneuve Blvd. W.\, Montreal\, QC\, H3G 1M8\, Canada
CATEGORIES:Conference,Event,Virtual Event
ATTACH;FMTTYPE=image/png:https://indigenousclimatehub.ca/wp-content/uploads/2026/01/Concordia-University-300x225-1.png
ORGANIZER;CN="Office of Decolonizing and Indigenizing Curriculum and Pedagogy":MAILTO:teaching@concordia.ca
END:VEVENT
BEGIN:VEVENT
DTSTART;TZID=America/New_York:20251114T103000
DTEND;TZID=America/New_York:20251114T114500
DTSTAMP:20260419T133551
CREATED:20251028T192011Z
LAST-MODIFIED:20251028T195427Z
UID:6799-1763116200-1763120700@indigenousclimatehub.ca
SUMMARY:Event and Webinar : Mitigating the Impacts of Climate Change Insights on Environmental Protection and Restoration
DESCRIPTION:Mitigating the Impacts of Climate Change: Insights on Environmental Protection and Restoration Led by the Kanien’kehá:ka Community of Kahnawá:ke\nMitigating the Impacts of Climate Change is a series of separate workshops featuring speakers who share their insights on Indigenous environmental leadership\, community action\, and land-based learning. \nThe Kahnawà:ke Environment Protection Office has been studying and protecting the environment since the 1980s. In 2020\, the Recreation Bay Restoration Project was initiated—the largest landscape project ever undertaken by the Mohawk Community. Now\, in 2025\, the North Creek Restoration Project is currently underway. This presentation combines community history\, environmental expertise\, and the on-the-ground experience that informs environmental restoration in an Indigenous community. Upcoming work and future visions will also be highlighted. \nSpeaker: Cole Teionieh’táthe Delisle works as an Environmental Projects Coordinator for Terrestrial Habitats with a wide range of projects. He coordinates KEPO’s seed saving activities\, EAB project\, species at risk\, bird program\, and drone work. A graduate from Concordia University’s Anthropology program\, he is interested in archeology and the community’s history. Outside of terrestrial work\, he also leads Kahnawà:ke’s participation in Transport Canada’s Enhanced Maritime Situational Awareness Program monitoring the impacts of industrial shipping. \nAudience: Concordia community and external \n  \nNovember 14th 2025 | In-person and Online | Register \nOrganized by Office of Decolonizing and Indigenizing Curriculum and Pedagogy \nThis event has been generously funded by the Chamandy Foundation.
URL:https://indigenousclimatehub.ca/event/event-mitigating-the-impacts-of-climate-change/
LOCATION:Concordia University\, Pavillon J.‐W.‐McConnell 1400 De Maisonneuve Blvd. W.\, Montreal\, QC\, H3G 1M8\, Canada
CATEGORIES:Event,Webinar
ORGANIZER;CN="Concordia University %3A Indigenous Decolonization Hub":MAILTO:teaching@concordia.ca
END:VEVENT
BEGIN:VEVENT
DTSTART;TZID=UTC:20230529T000000
DTEND;TZID=UTC:20230531T235959
DTSTAMP:20260419T133551
CREATED:20230307T152858Z
LAST-MODIFIED:20230307T153031Z
UID:5976-1685318400-1685577599@indigenousclimatehub.ca
SUMMARY:Indigenous Centre for Cumulative Effects' (ICCE) National Conference
DESCRIPTION:The 2023 conference theme is Sharing Knowledge to Take Action and will be held May 29 to 31\, 2023 at the Westin Hotel in Ottawa\, Ontario. The Westin Hotel is located at 11 Colonel By Dr\, Ottawa\, ON K1N 9H4 and the telephone number is 613-560-7000. \nSpeakers\nSpeakers from coast to coast will share their knowledge on cumulative effects assessment\, management and monitoring and on how their ground-breaking initiatives are allowing their communities and organizations to build and strengthen their capacity in addressing cumulative effects. \nThrough interactive presentations and panels\, conference participants will learn more about innovative ways to handle the social\, cultural\, and environmental components of cumulative effects work. These discussions\, rooted in both Indigenous and non-Indigenous knowledge\, will empower communities to seize this opportunity to take action and continue their contribution to the ever-growing Indigenous leadership on cumulative effects. \nWho Should Attend\nThis conference is primarily for First Nation\, Métis and Inuit communities and Indigenous organizations that undertake\, or aspire to undertake\, cumulative effects assessment\, monitoring and management in their communities. The conference will be of interest to individuals interested in or having responsibilities related to cumulative effects such as land managers\, environmental technicians\, knowledge holders and land guardians. \nRegistration\nTo learn more or register\, visit https://icceconferencecaec.ca/2023/. \nRegistration Fees\nGovernment and Industry – $1\,100. \nNot-for-profit – $800.00 \n  \n[Note: All information above from event from ICCE 2023 Conference webpage]. \n[Image Source: Event image/poster from ICCE 2023 Conference webpage].
URL:https://indigenousclimatehub.ca/event/indigenous-centre-for-cumulative-effects-icce-national-conference/
LOCATION:Westin Hotel\, Ottawa\, Ontario\, 11 Colonel By Dr.\, Ottawa\, Ontario\, K1N 9H4\, Canada
CATEGORIES:Event
ATTACH;FMTTYPE=image/png:https://indigenousclimatehub.ca/wp-content/uploads/2023/03/Screenshot-2023-03-07-at-10.28.13-AM.png
END:VEVENT
BEGIN:VEVENT
DTSTART;TZID=America/Vancouver:20220927T190000
DTEND;TZID=America/Vancouver:20220927T200000
DTSTAMP:20260419T133551
CREATED:20220912T154518Z
LAST-MODIFIED:20220912T154518Z
UID:5782-1664305200-1664308800@indigenousclimatehub.ca
SUMMARY:Climate Change and Watershed Security - Wildsight
DESCRIPTION:Description: Glacier ice is nature’s savings account for water; but with disappearing glaciers\, in conjunction with a warmer future\, its availability will fundamentally change. Learn more about the state of water in the Columbia Basin in this presentation about the Columbia Basin Water Monitoring Framework\, an innovative program that supports Indigenous and non-Indigenous communities and decision makers in understanding water quantity. Some people predict that our next wars will be around water. It’s that important. \nPresenters include: \nNicole Trigg\, Communications Director\, Living Lakes Canada\nCarol Luttmer\, Columbia Basin Groundwater Monitoring Program Manager\, Living Lakes Canada \nJoin Wildsight on September 27th\, 2022 from 7-8 PM for an evening exploring our watershed and the monitoring framework \nDate and Time: Tuesday\, September 27\, 2022 at 7:00pm \nLocation: Radium Hot Springs Centre \nAddress: 4863 Stanley St.\, Radium Hot Springs\, BC\, V0A 1M0 \nVisit Wildsight event page for more details or to register – https://wildsight.ca/events/climate-change-and-watershed-security/.
URL:https://indigenousclimatehub.ca/event/climate-change-and-watershed-security-wildsight/
LOCATION:Radium Hot Springs Centre\, 4863 Stanley St.\, Radium Hot Springs\, British Columbia\, V0A 1M0\, Canada
CATEGORIES:Event
END:VEVENT
BEGIN:VEVENT
DTSTART;TZID=America/Toronto:20220706T143000
DTEND;TZID=America/Toronto:20220706T160000
DTSTAMP:20260419T133551
CREATED:20220704T175633Z
LAST-MODIFIED:20220704T175808Z
UID:5737-1657117800-1657123200@indigenousclimatehub.ca
SUMMARY:Honouring Indigenous Climate Leadership: A Roundtable Discussion
DESCRIPTION:Upcoming Event by the Canadian Climate Institute and the Centre for Indigenous Environmental Resources\nEvent description: Climate change is disproportionately impacting Indigenous people\, communities\, and territories—and Indigenous researchers and knowledge keepers are leading the development of land-based and culturally rooted responses. To amplify the crucial work of these researchers and knowledge keepers\, the Canadian Climate Institute and the Centre for Indigenous Environmental Research have published four new case studies in our Indigenous Perspectives series that showcase exemplary work on climate research and policy. \nDate: On July 6 at 2:30pm ET\, the Canadian Climate Institute will be hosting a roundtable discussion with the authors. \nRegistration Link: https://climateinstitute.ca/events/honouring-indigenous-climate-leadership/ \n  \n(Image/Poster Source: Canadian Climate Institute)
URL:https://indigenousclimatehub.ca/event/honouring-indigenous-climate-leadership-a-roundtable-discussion/
LOCATION:QC
CATEGORIES:Event
ATTACH;FMTTYPE=image/png:https://indigenousclimatehub.ca/wp-content/uploads/2022/07/Honouring-Indigenous-Climate-Leadership.png
END:VEVENT
BEGIN:VEVENT
DTSTART;VALUE=DATE:20220515
DTEND;VALUE=DATE:20220616
DTSTAMP:20260419T133551
CREATED:20220315T164824Z
LAST-MODIFIED:20220315T165035Z
UID:5616-1652572800-1655337599@indigenousclimatehub.ca
SUMMARY:NAISA North 2022
DESCRIPTION:Location: Virtually\, and in various locations in the Northwest Territories and Yukon\, Canada \nDates: Virtual Programming; May 15 to June 15\nIn-Person Programming – Whitehorse: May 25-27\nIn-Person Programming – Yellowknife: June 23-25.\nOther community programs TBC. \nThis hybrid series of gatherings will focus on Northern Issues; Land-based research; Land-based Education; Decolonial Feminisms; Self-Determination\, Governance\, and Law; 2SLGBTQQIA+ issues in the North\, Solidarity & Internationalism; Land-based and Northern Creative Practice; Resurgence & Decolonization. The in-person components will include land-based activities such as hide tanning\, medicine harvesting and dry-fish-making. \nFor more information\, visit NAISA North 2022 event web page. \n  \n(Information source: NAISA North 2022 event web page) \n(Header photo credit: Dechinta website\, NAISA North 2022) \n  \n 
URL:https://indigenousclimatehub.ca/event/naisa-north-2022/
LOCATION:QC
CATEGORIES:Event,Virtual Event
ATTACH;FMTTYPE=image/png:https://indigenousclimatehub.ca/wp-content/uploads/2022/03/Screen-Shot-2022-03-15-at-12.41.55-PM.png
ORGANIZER;CN="Dechinta":MAILTO:naisanorth@dechinta.ca
END:VEVENT
BEGIN:VEVENT
DTSTART;TZID=America/Edmonton:20220326T090000
DTEND;TZID=America/Edmonton:20220326T170000
DTSTAMP:20260419T133551
CREATED:20220315T181956Z
LAST-MODIFIED:20220315T181956Z
UID:5640-1648285200-1648314000@indigenousclimatehub.ca
SUMMARY:Keyano Climate Change Conference 2022 (Virtual and In-person)
DESCRIPTION:Understanding our Changing Northern Communities to Navigate the Future\nKeyano College presents a one-day Climate Change Conference hosted virtually and in-person at Keyano College on Saturday\, March 26\, 2022\, Earth Hour\, from 9 a.m. to 5 p.m. MDT. \nWhat is The Climate Change Conference?\nThe overall goal of this conference is to bring together scientists\, experts\, organizations\, Indigenous leaders\, and other participants as partners in learning to share and increase knowledge of the climate change\, impact and adaptation and to provide information about policies\, programs\, and tools in place to protect\, mitigate and help Northern and Arctic communities to adapt. \nBy the end of the conference\, we hope to enhance the understanding of: \n\nClimate change in the past\, present\, and future.\nEffects of the impact of climate change in Northern communities and Arctic regions.\nMethods and strategies used by communities to adapt\, build\, and enhance their climate change resilience.\n\nTo achieve these objectives\, participants will be engaged in a diverse range of oral presentations from several leaders in climate change around the globe and poster presentations from our student members. \nView the Conference Agenda \nWho Can Attend this conference?\nThis conference is free and open to everyone\, including students\, faculty\, staff\, community members\, family\, and friends interested in learning more about climate change. We also welcome all new ideas and questions. \nHow is the conference organized?\nKeyano Climate Change Conference is organized by faculty and students of EAS 208 (Introduction to Global Change). All of whom volunteer their time to make this day happen. \nSponsors\nUniversity Studies and Environmental Technology\, Keyano College \nAttendance and Registration\n Due to the Covid-19 pandemics\, few participants will be present in-person and all others connected remotely. Deadline for registration is Friday\, March 18\, 2022\, and can be completed via the online booking form.  \n  \nIf you have any questions or concerns about the conference\, send us an email. \nE-Mail Climate Change Conference  \n  \n(Information source: Keyano  Climate Change Conference web page) \n(Header Photo Image source: Keyano Climate Change Conference Registration Form) \n 
URL:https://indigenousclimatehub.ca/event/keyano-climate-change-conference-2022-virtual-and-in-person/
LOCATION:QC
CATEGORIES:Event,Virtual Event
ATTACH;FMTTYPE=image/png:https://indigenousclimatehub.ca/wp-content/uploads/2022/03/Screen-Shot-2022-03-15-at-2.15.01-PM.png
END:VEVENT
BEGIN:VEVENT
DTSTART;VALUE=DATE:20210609
DTEND;VALUE=DATE:20210612
DTSTAMP:20260419T133551
CREATED:20200401T210455Z
LAST-MODIFIED:20200408T193210Z
UID:4776-1623196800-1623455999@indigenousclimatehub.ca
SUMMARY:11th Annual Water Summit and Window on Ottawa
DESCRIPTION:**NOTE of Change: This event was originally scheduled June 10-12\, 2020 in Ottawa\, however it was rescheduled to June 9-11\, 2021 due the COVID-19 pandemic. Follow the Canadian Water Summit website for future updates. \nEvent Description: \nThe Canadian Water Summit will be held in conjunction with the Canadian Water and Wastewater Association’s (CWWA) Window on Ottawa. Together\, the Canadian Water Summit and Window on Ottawa will help build important conversations on the policy and governance issues that are key to unlocking Canada’s blue economy. \nThe week will kick off with Window on Ottawa on June 9\, 2020 at the Delta Ottawa City Centre. It will be followed by the Canadian Water Summit on June 10 and 11 at the same venue.
URL:https://indigenousclimatehub.ca/event/11th-annual-water-summit-and-window-on-ottawa/
LOCATION:Delta Ottawa City Centre\, 101 Lyon St. N.\, Ottawa\, Ontario\, K1R 5T9\, Canada
CATEGORIES:Event
END:VEVENT
BEGIN:VEVENT
DTSTART;VALUE=DATE:20201015
DTEND;VALUE=DATE:20201017
DTSTAMP:20260419T133551
CREATED:20200401T212547Z
LAST-MODIFIED:20200930T191611Z
UID:4781-1602720000-1602892799@indigenousclimatehub.ca
SUMMARY:Event - Watersheds 2020: Stepping Stones to Collaborative Watershed Governance
DESCRIPTION:Description (from watershedsforum.ca website): \n*Amid current global challenges\, water and watershed security remain imperative and we are convinced that Watersheds 2020: Stepping stones to watershed governance is needed now more than ever before. For that reason\, we have decided to “meet you where you are at” by creating a virtual gathering this Fall as we also work towards establishing a viable date in 2021 for our in-person forum.* \nWHAT IS WATERSHEDS 2020? \nJoin us October 15-16\, 2020 for a virtual forum that brings together a diverse community of water leaders in B.C.—including Indigenous Nations\, watershed groups\, local and provincial government staff\, funders\, and the network of practitioners and champions—to build and deepen connections\, learn from one another\, and explore opportunities for improved watershed decision-making and longer-term watershed security. \nWHY WATERSHED GOVERNANCE? WHY NOW? \nFrom record-breaking droughts and floods to conflicts over use and rights\, British Columbia’s fresh water is facing increasing threats. Addressing current and looming freshwater challenges as well as changing realities requires new partnerships and innovative forms of collaborative governance to respond to the many social and ecological needs of our watersheds. \nTHE AGENDA \nWatersheds 2020 is being shaped by the needs and priorities identified by the water community and offers a chance for deeper understanding of the emerging issues and the opportunities to create change. \nThis virtual event will offer a small and stimulating sampling of talks\, panels\, and interactive opportunities to set us up well for our in-person get together anticipated in 2021. \nOur core program starting to come together! Below is a sneak peek at the Watersheds 2020 panels and talks. \n\nWater and watershed security the emerging imperative\nStories from on-the-ground watershed governance projects\nIndigenous-led water initiatives\nUNDRIP\, DRIPA\, and Indigenous laws\nWater ethics and cross-cultural values\nSustainable funding – lessons and future potential\nGlobal to local innovators and possibilities\nStepping stones to watershed governance – tools and priorities to gain greater influence and strengthen collaborations\n\nStay tuned and save the dates of October 15-16\, 2020! A program and registration link for the free virtual forum are coming soon! \nIf you want to help us continue to create an effective program shaped by the needs and priorities identified by the BC water community\, please fill out the survey: https://www.surveymonkey.com/r/POLIS-Illumination-survey-2020. \n  \n 
URL:https://indigenousclimatehub.ca/event/event-watersheds-2020-stepping-stones-to-collaborative-watershed-governance/
LOCATION:QC
CATEGORIES:Event,Webinar
ATTACH;FMTTYPE=image/png:https://indigenousclimatehub.ca/wp-content/uploads/2020/04/Watersheds2020_WebLogoOption4-1024x337-1.png
END:VEVENT
BEGIN:VEVENT
DTSTART;TZID=America/Moncton:20200923T123000
DTEND;TZID=America/Moncton:20200924T163000
DTSTAMP:20260419T133551
CREATED:20200903T173548Z
LAST-MODIFIED:20200903T173749Z
UID:4922-1600864200-1600965000@indigenousclimatehub.ca
SUMMARY:Virtual Conference on Adaptation to Climate Change
DESCRIPTION:Integrating Nature in Adapting to a Changing Climate \n\nAnnual Conference of the New Brunswick Climate Change Adaptation Collaborative\, in partnership with the Association of Consulting Engineering Companies \nNature-based solutions to climate impacts are cutting edge ways to adapt to climate change. Keys to understanding these approaches include not only the technical aspects\, but the financial implications as well as the relationships between stakeholders in infrastructure maintenance and adaptation. \nIf you are interested in exploring nature-based approaches and how best to present these options\, this is the conference for you — the municipal planners\, building contractors\, developers\, engineers and NGOs working on climate adaptation. \nHighlights: \n\n\nKeynote Speaker: Deborah Harford\, ACT Simon Fraser University\, expert on effective adaptation strategies at all levels of government\nHow project leaders are using nature-based approaches\nThe economic case for moving towards nature-based approaches\nOvercoming obstacles to adapting with nature from several perspectives\nMaking nature more effective in adapting to climate change\nWorking together to build resilient\, greener communities\n\nFor more information\, including agenda and registration\, click here. \n(Information from New Brunswick Environment Network website).
URL:https://indigenousclimatehub.ca/event/virtual-conference-on-adaptation-to-climate-change/
LOCATION:QC
CATEGORIES:Event,Webinar
ATTACH;FMTTYPE=image/png:https://indigenousclimatehub.ca/wp-content/uploads/2020/09/CCAC_Conf20.png
ORGANIZER;CN="New Brunswick Environmental Network":MAILTO:nben@nben.ca
END:VEVENT
END:VCALENDAR